BEGIN:VCALENDAR
VERSION:2.0
PRODID:-//Contratero//ES
CALSCALE:GREGORIAN
METHOD:PUBLISH
BEGIN:VEVENT
UID:PSS 07-2021 RCB@contratero.es
DTSTAMP:20260422T183138Z
DTSTART:20211222T235959
DTEND:20211223T005959
SUMMARY:Cierre: sistema de gestión informatizado de los procesos d
DESCRIPTION:sistema de gestión informatizado de los procesos de trabajos que generan la organización interna de los recursos humanos\, la asignación de funciones y medios\, adaptado a las necesidades del Real Cuerp...\\n\\nOrganismo: Dirección General de Extinción de Incendios\, Protección Civil y Servicios de Emergencia\\n\\nVer en Contratero: https://contratero.es/contracts/PSS 07-2021 RCB
URL:https://contratero.es/contracts/PSS 07-2021 RCB
STATUS:CONFIRMED
BEGIN:VALARM
TRIGGER:-P1D
ACTION:DISPLAY
DESCRIPTION:Recordatorio: sistema de gestión informatiza
END:VALARM
END:VEVENT
END:VCALENDAR